{
 "currentVersion": 10.91,
 "serviceDescription": "Solar City Basemap",
 "mapName": "Layers",
 "description": "",
 "copyrightText": "",
 "supportsDynamicLayers": false,
 "layers": [
  {
   "id": 0,
   "name": "HRM",
   "parentLayerId": -1,
   "defaultVisibility": true,
   "subLayerIds": null,
   "minScale": 0,
   "maxScale": 0,
   "type": "Feature Layer",
   "geometryType": "esriGeometryPolygon"
  }
 ],
 "tables": [],
 "spatialReference": {
  "wkid": 2038,
  "latestWkid": 2961
 },
 "singleFusedMapCache": true,
 "tileInfo": {
  "rows": 256,
  "cols": 256,
  "dpi": 96,
  "format": "Mixed",
  "compressionQuality": 75,
  "origin": {
   "x": -5120900,
   "y": 9998100
  },
  "spatialReference": {
   "wkid": 2038,
   "latestWkid": 2961
  },
  "lods": [
   {
    "level": 0,
    "resolution": 13.229193125052918,
    "scale": 50000
   },
   {
    "level": 1,
    "resolution": 8.466683600033868,
    "scale": 32000
   },
   {
    "level": 2,
    "resolution": 4.233341800016934,
    "scale": 16000
   },
   {
    "level": 3,
    "resolution": 2.116670900008467,
    "scale": 8000
   },
   {
    "level": 4,
    "resolution": 1.0583354500042335,
    "scale": 4000
   },
   {
    "level": 5,
    "resolution": 0.5291677250021167,
    "scale": 2000
   }
  ]
 },
 "initialExtent": {
  "xmin": -1.75561855193187E7,
  "ymin": -4435799.311679609,
  "xmax": 1.85561855193187E7,
  "ymax": 1.099776033722998E7,
  "spatialReference": {
   "wkid": 2038,
   "latestWkid": 2961
  }
 },
 "fullExtent": {
  "xmin": -5120763.267722837,
  "ymin": -9997963.942936342,
  "xmax": 6120763.267722837,
  "ymax": 9997963.942936342,
  "spatialReference": {
   "wkid": 2038,
   "latestWkid": 2961
  }
 },
 "minScale": 50000,
 "maxScale": 2000,
 "units": "esriMeters",
 "supportedImageFormatTypes": "PNG32,PNG24,PNG,JPG,DIB,TIFF,EMF,PS,PDF,GIF,SVG,SVGZ,BMP",
 "documentInfo": {
  "Title": "",
  "Author": "",
  "Comments": "",
  "Subject": "",
  "Category": "",
  "AntialiasingMode": "None",
  "TextAntialiasingMode": "Force",
  "Keywords": "Solar City,Basemap"
 },
 "capabilities": "Map,Query,Data",
 "supportedQueryFormats": "JSON, geoJSON",
 "exportTilesAllowed": false,
 "referenceScale": 0,
 "supportsDatumTransformation": true,
 "maxRecordCount": 1000,
 "maxImageHeight": 4096,
 "maxImageWidth": 4096,
 "supportedExtensions": ""
}
